BEGIN:VCALENDAR
VERSION:2.0
PRODID:-//Volleyball - ECPv6.15.20//NONSGML v1.0//EN
CALSCALE:GREGORIAN
METHOD:PUBLISH
X-ORIGINAL-URL:https://www.tsc-berlin.de/volleyball
X-WR-CALDESC:Veranstaltungen für Volleyball
REFRESH-INTERVAL;VALUE=DURATION:PT1H
X-Robots-Tag:noindex
X-PUBLISHED-TTL:PT1H
BEGIN:VTIMEZONE
TZID:Europe/Berlin
BEGIN:DAYLIGHT
TZOFFSETFROM:+0100
TZOFFSETTO:+0200
TZNAME:CEST
DTSTART:20250330T010000
END:DAYLIGHT
BEGIN:STANDARD
TZOFFSETFROM:+0200
TZOFFSETTO:+0100
TZNAME:CET
DTSTART:20251026T010000
END:STANDARD
BEGIN:DAYLIGHT
TZOFFSETFROM:+0100
TZOFFSETTO:+0200
TZNAME:CEST
DTSTART:20260329T010000
END:DAYLIGHT
BEGIN:STANDARD
TZOFFSETFROM:+0200
TZOFFSETTO:+0100
TZNAME:CET
DTSTART:20261025T010000
END:STANDARD
BEGIN:DAYLIGHT
TZOFFSETFROM:+0100
TZOFFSETTO:+0200
TZNAME:CEST
DTSTART:20270328T010000
END:DAYLIGHT
BEGIN:STANDARD
TZOFFSETFROM:+0200
TZOFFSETTO:+0100
TZNAME:CET
DTSTART:20271031T010000
END:STANDARD
END:VTIMEZONE
BEGIN:VEVENT
DTSTART;TZID=Europe/Berlin:20260104T100000
DTEND;TZID=Europe/Berlin:20260104T180000
DTSTAMP:20260422T103710
CREATED:20251203T124627Z
LAST-MODIFIED:20251217T200649Z
UID:2570-1767520800-1767549600@www.tsc-berlin.de
SUMMARY:U13m 4.Spieltag
DESCRIPTION:
URL:https://www.tsc-berlin.de/volleyball/event/u13m-4-spieltag/
LOCATION:Albert-Einstein-Gymnasium\, Parchimer Allee 109\, Berlin\, 12359\, Germany
CATEGORIES:Jugend,Spieltag,U13m
END:VEVENT
BEGIN:VEVENT
DTSTART;TZID=Europe/Berlin:20260105T190000
DTEND;TZID=Europe/Berlin:20260105T210000
DTSTAMP:20260422T103710
CREATED:20251010T235835Z
LAST-MODIFIED:20251011T002536Z
UID:2310-1767639600-1767646800@www.tsc-berlin.de
SUMMARY:TSC Kangaroos 5.Spieltag
DESCRIPTION:U40 Mixed vs. TSC Kangaroos
URL:https://www.tsc-berlin.de/volleyball/event/tsc-kangaroos-5-spieltag/
LOCATION:Nils-Holgersson-Schule\, Otto-Marquardt-Straße 12\, Berlin\, 10369\, Germany
CATEGORIES:Freizeitvolleyball,Kangaroos,Spieltag
END:VEVENT
BEGIN:VEVENT
DTSTART;TZID=Europe/Berlin:20260105T190000
DTEND;TZID=Europe/Berlin:20260105T210000
DTSTAMP:20260422T103710
CREATED:20251011T130332Z
LAST-MODIFIED:20260116T133119Z
UID:2340-1767639600-1767646800@www.tsc-berlin.de
SUMMARY:TSC Sparrows 5.Spieltag
DESCRIPTION:BSC Eintracht Südring 4 vs. TSC Sparrows
URL:https://www.tsc-berlin.de/volleyball/event/tsc-sparrows-5-spieltagg/
LOCATION:OSZ Handel (Halle 2)\, Wrangelstraße 98\, Berlin\, 10997\, Germany
CATEGORIES:Freizeitvolleyball,Sparrows,Spieltag
END:VEVENT
BEGIN:VEVENT
DTSTART;TZID=Europe/Berlin:20260109T200000
DTEND;TZID=Europe/Berlin:20260109T220000
DTSTAMP:20260422T103710
CREATED:20251011T145121Z
LAST-MODIFIED:20251011T150350Z
UID:2366-1767988800-1767996000@www.tsc-berlin.de
SUMMARY:TSC noms 5.Spieltag
DESCRIPTION:Wildau Volleys vs. TSC noms
URL:https://www.tsc-berlin.de/volleyball/event/tsc-noms-5-spieltag/
LOCATION:Sporthalle Friedrich-Engels-Straße\, Friedrich-Engels-Straße 63\, Wildau\, 15745\, Germany
CATEGORIES:Freizeitvolleyball,Noms,Spieltag
END:VEVENT
BEGIN:VEVENT
DTSTART;TZID=Europe/Berlin:20260118T100000
DTEND;TZID=Europe/Berlin:20260118T180000
DTSTAMP:20260422T103710
CREATED:20251203T125007Z
LAST-MODIFIED:20260114T123721Z
UID:2572-1768730400-1768759200@www.tsc-berlin.de
SUMMARY:U14m 3.(Heim)Spieltag
DESCRIPTION:Erneuter Heimspieltag in der Parchimer Allee\,  diesmal für unsere U14 Jungs. Sie treffen in der LK4 auf folgende Mannschaften:  \n\nTSV Tempelhof Mariendorf\nViktoria Mitte 08\nTSV Rudow\nVSG Altglienicke\nSC Charlottenburg III\n\nErgebnisse und Ansetzungen könnt ihr auf der Seite des VVB entnehmen.
URL:https://www.tsc-berlin.de/volleyball/event/u14m-3-spieltag/
LOCATION:Albert-Einstein-Gymnasium\, Parchimer Allee 109\, Berlin\, 12359\, Germany
CATEGORIES:Jugend,Spieltag,U14m
END:VEVENT
BEGIN:VEVENT
DTSTART;TZID=Europe/Berlin:20260124T100000
DTEND;TZID=Europe/Berlin:20260124T180000
DTSTAMP:20260422T103710
CREATED:20251203T130038Z
LAST-MODIFIED:20251203T144922Z
UID:2574-1769248800-1769277600@www.tsc-berlin.de
SUMMARY:U13m 5. Spieltag
DESCRIPTION:
URL:https://www.tsc-berlin.de/volleyball/event/u13m-5-spieltag/
CATEGORIES:Jugend,Spieltag,U13m
END:VEVENT
BEGIN:VEVENT
DTSTART;TZID=Europe/Berlin:20260125T100000
DTEND;TZID=Europe/Berlin:20260125T180000
DTSTAMP:20260422T103710
CREATED:20251203T130339Z
LAST-MODIFIED:20251203T150338Z
UID:2576-1769335200-1769364000@www.tsc-berlin.de
SUMMARY:U13w 5.Spieltag
DESCRIPTION:
URL:https://www.tsc-berlin.de/volleyball/event/u13w-5-spieltag/
CATEGORIES:Jugend,Spieltag,U13w
END:VEVENT
BEGIN:VEVENT
DTSTART;TZID=Europe/Berlin:20260126T193000
DTEND;TZID=Europe/Berlin:20260126T214500
DTSTAMP:20260422T103710
CREATED:20251011T145122Z
LAST-MODIFIED:20251011T150350Z
UID:2367-1769455800-1769463900@www.tsc-berlin.de
SUMMARY:TSC noms 6.Spieltag
DESCRIPTION:TSC noms vs. U40 Männer I
URL:https://www.tsc-berlin.de/volleyball/event/tsc-noms-6-spieltag/
LOCATION:Sporthalle Hertabrücke\, Hertastr. 1\, Berlin\, Berlin Neukölln\, 12051\, Germany
CATEGORIES:Freizeitvolleyball,Noms,Spieltag
END:VEVENT
BEGIN:VEVENT
DTSTART;TZID=Europe/Berlin:20260127T191500
DTEND;TZID=Europe/Berlin:20260127T214500
DTSTAMP:20260422T103710
CREATED:20251010T235836Z
LAST-MODIFIED:20251011T003229Z
UID:2311-1769541300-1769550300@www.tsc-berlin.de
SUMMARY:TSC Kangaroos 6.Spieltag
DESCRIPTION:TSC Kangaroos vs. TVNO Berlin
URL:https://www.tsc-berlin.de/volleyball/event/tsc-kangaroos-6-spieltag/
LOCATION:Albert-Einstein-Gymnasium\, Parchimer Allee 109\, Berlin\, 12359\, Germany
CATEGORIES:Freizeitvolleyball,Kangaroos,Spieltag
END:VEVENT
BEGIN:VEVENT
DTSTART;TZID=Europe/Berlin:20260127T191500
DTEND;TZID=Europe/Berlin:20260127T214500
DTSTAMP:20260422T103710
CREATED:20251011T130334Z
LAST-MODIFIED:20260116T133035Z
UID:2341-1769541300-1769550300@www.tsc-berlin.de
SUMMARY:TSC Sparrows 6.Spieltag
DESCRIPTION:TSC Sparrows vs. Team Ausbau
URL:https://www.tsc-berlin.de/volleyball/event/tsc-sparrows-6-spieltag/
LOCATION:Albert-Einstein-Gymnasium\, Parchimer Allee 109\, Berlin\, 12359\, Germany
CATEGORIES:Freizeitvolleyball,Sparrows,Spieltag
END:VEVENT
END:VCALENDAR