BEGIN:VCALENDAR
VERSION:2.0
PRODID:-//Volleyball - ECPv6.15.20//NONSGML v1.0//EN
CALSCALE:GREGORIAN
METHOD:PUBLISH
X-ORIGINAL-URL:https://www.tsc-berlin.de/volleyball
X-WR-CALDESC:Veranstaltungen für Volleyball
REFRESH-INTERVAL;VALUE=DURATION:PT1H
X-Robots-Tag:noindex
X-PUBLISHED-TTL:PT1H
BEGIN:VTIMEZONE
TZID:Europe/Berlin
BEGIN:DAYLIGHT
TZOFFSETFROM:+0100
TZOFFSETTO:+0200
TZNAME:CEST
DTSTART:20250330T010000
END:DAYLIGHT
BEGIN:STANDARD
TZOFFSETFROM:+0200
TZOFFSETTO:+0100
TZNAME:CET
DTSTART:20251026T010000
END:STANDARD
BEGIN:DAYLIGHT
TZOFFSETFROM:+0100
TZOFFSETTO:+0200
TZNAME:CEST
DTSTART:20260329T010000
END:DAYLIGHT
BEGIN:STANDARD
TZOFFSETFROM:+0200
TZOFFSETTO:+0100
TZNAME:CET
DTSTART:20261025T010000
END:STANDARD
BEGIN:DAYLIGHT
TZOFFSETFROM:+0100
TZOFFSETTO:+0200
TZNAME:CEST
DTSTART:20270328T010000
END:DAYLIGHT
BEGIN:STANDARD
TZOFFSETFROM:+0200
TZOFFSETTO:+0100
TZNAME:CET
DTSTART:20271031T010000
END:STANDARD
END:VTIMEZONE
BEGIN:VEVENT
DTSTART;TZID=Europe/Berlin:20260201T130000
DTEND;TZID=Europe/Berlin:20260201T190000
DTSTAMP:20260420T104829
CREATED:20250914T173532Z
LAST-MODIFIED:20250914T173933Z
UID:2110-1769950800-1769972400@www.tsc-berlin.de
SUMMARY:Rookies 2.Spieltag
DESCRIPTION:
URL:https://www.tsc-berlin.de/volleyball/event/rookies-2-spieltag/
LOCATION:OSZ Handel (Halle 1)\, Wrangelstraße 98\, Berlin\, Berlin\, 10997
CATEGORIES:Freizeitvolleyball,Rookies,Spieltag
END:VEVENT
BEGIN:VEVENT
DTSTART;TZID=Europe/Berlin:20260202T160000
DTEND;TZID=Europe/Berlin:20260202T173000
DTSTAMP:20260420T104829
CREATED:20251217T195642Z
LAST-MODIFIED:20260212T151359Z
UID:2616-1770048000-1770053400@www.tsc-berlin.de
SUMMARY:Probetraining Minis\, U12-U14 (m/w)
DESCRIPTION:Wie an jedem ersten Montag im Monat laden wir alle volleyballinteressierten Kinder und Jugendlichen (m/w) von 8–11 Jahren herzlich am 2. Februar zu unserem ersten  offenen Probetraining  in 2026 in unsere Halle in Neukölln unweit der S+U Hermannstraße ein \nEgal ob du gerade erst anfängst oder schon ein paar Bälle über das Netz gespielt hast – bei uns kannst du Volleyball  spielerisch entdecken oder deine ersten Techniken verbessern. \nUnsere  Trainer begleiten dich dabei in altersgerechten Gruppen – von den Minis bis zu den U12–U14-Teams. \nDas solltest du Mitbringen: Sportkleidung\, Trinkflasche\, Hallenschuhe und Lust auf Volleyball! \nKeine Voranmeldung nötig – einfach vorbeikommen.Wir freuen uns auf euch! \nAnsprechpartner Anatoli Schlee
URL:https://www.tsc-berlin.de/volleyball/event/probetraining-minis-u12-u14-m-w-februar/
LOCATION:Sporthalle Hertabrücke\, Hertastr. 1\, Berlin\, Berlin Neukölln\, 12051\, Germany
CATEGORIES:Jugend,Probetraining
END:VEVENT
BEGIN:VEVENT
DTSTART;TZID=Europe/Berlin:20260214T100000
DTEND;TZID=Europe/Berlin:20260214T180000
DTSTAMP:20260420T104829
CREATED:20260209T111435Z
LAST-MODIFIED:20260212T135842Z
UID:2752-1771063200-1771092000@www.tsc-berlin.de
SUMMARY:U13m 2.Quali BM
DESCRIPTION:2 Runde in der Qualifikation zur Berliner Meisterschaft in der U13. In der 2.Runde spielen folgende 11 Teams mit unserem Team  um die noch  offenen fünf Startplätze der Berliner Meisterschaft.  \n\nSSV Karow\nReinickendorfer Füchse\nTSV Tempelhof Mariendorf\nSC Charlottenburg II – IV\nRotation Prenzlauer Berg I & II\nSV Buch\nBVV\nSV Preussen\n\nUnser Team tritt in ihrer Vorrundengruppe auf die Teams von: \n\nSCC II\, BVV\, RPB I\, SCC III und SV Preussen
URL:https://www.tsc-berlin.de/volleyball/event/u13m-2-quali-bm/
LOCATION:Fritz- Reuter Oberschule\, Prendener Straße / Falkenberger Chaussee\, Berlin\, 13059
CATEGORIES:Jugend,Spieltag,U13m
END:VEVENT
BEGIN:VEVENT
DTSTART;TZID=Europe/Berlin:20260215T100000
DTEND;TZID=Europe/Berlin:20260215T180000
DTSTAMP:20260420T104829
CREATED:20260212T133137Z
LAST-MODIFIED:20260212T133243Z
UID:2766-1771149600-1771178400@www.tsc-berlin.de
SUMMARY:U13m LK3 5.Spieltag
DESCRIPTION:Nachholspieltag in der LK3  für unsere neue zweite  U13m Mannschaft. Gegner sind: \n\nTSV Rudow\nBVV\nSV Preussen\nSF Kladow  II\nSCC III+VII+VIII\nSSV Karow \n\nAlles weiter findet ihr hier auf den Seiten des Volleyball Verbandes Berlin.
URL:https://www.tsc-berlin.de/volleyball/event/u13m-lk3-5-spieltag/
LOCATION:Sporthalle Schönagelstraße\, Schönagelstraße 70\, Berlin\, 12679\, Germany
CATEGORIES:Jugend,Spieltag,U13m
END:VEVENT
BEGIN:VEVENT
DTSTART;TZID=Europe/Berlin:20260216T193000
DTEND;TZID=Europe/Berlin:20260216T214500
DTSTAMP:20260420T104829
CREATED:20251011T145123Z
LAST-MODIFIED:20251011T150349Z
UID:2368-1771270200-1771278300@www.tsc-berlin.de
SUMMARY:TSC noms 7.Spieltag
DESCRIPTION:TSC noms vs. SG Fernsehelektronik
URL:https://www.tsc-berlin.de/volleyball/event/tsc-noms-7-spieltag/
LOCATION:Sporthalle Hertabrücke\, Hertastr. 1\, Berlin\, Berlin Neukölln\, 12051\, Germany
CATEGORIES:Freizeitvolleyball,Noms,Spieltag
END:VEVENT
BEGIN:VEVENT
DTSTART;TZID=Europe/Berlin:20260217T191500
DTEND;TZID=Europe/Berlin:20260217T214500
DTSTAMP:20260420T104829
CREATED:20251010T235837Z
LAST-MODIFIED:20251011T003156Z
UID:2312-1771355700-1771364700@www.tsc-berlin.de
SUMMARY:TSC Kangaroos 7.Spieltag
DESCRIPTION:TSC Kangaroos vs. SG Pankow Schönhausen
URL:https://www.tsc-berlin.de/volleyball/event/tsc-kangaroos-7-spieltag/
LOCATION:Albert-Einstein-Gymnasium\, Parchimer Allee 109\, Berlin\, 12359\, Germany
CATEGORIES:Freizeitvolleyball,Kangaroos,Spieltag
END:VEVENT
BEGIN:VEVENT
DTSTART;TZID=Europe/Berlin:20260217T191500
DTEND;TZID=Europe/Berlin:20260217T214500
DTSTAMP:20260420T104829
CREATED:20251011T130334Z
LAST-MODIFIED:20260116T132606Z
UID:2342-1771355700-1771364700@www.tsc-berlin.de
SUMMARY:TSC Sparrows 7.Spieltag
DESCRIPTION:TSC Sparrows vs. SV Dreilinden
URL:https://www.tsc-berlin.de/volleyball/event/tsc-sparrows-7-spieltag/
LOCATION:Albert-Einstein-Gymnasium\, Parchimer Allee 109\, Berlin\, 12359\, Germany
CATEGORIES:Freizeitvolleyball,Sparrows,Spieltag
END:VEVENT
BEGIN:VEVENT
DTSTART;TZID=Europe/Berlin:20260221T100000
DTEND;TZID=Europe/Berlin:20260221T180000
DTSTAMP:20260420T104829
CREATED:20251203T141830Z
LAST-MODIFIED:20260217T183428Z
UID:2595-1771668000-1771696800@www.tsc-berlin.de
SUMMARY:U14m 4.Spieltag
DESCRIPTION:Nach ihrem Aufstieg in die LK3 trifft unsere U14m auf folgende Mannschaften: \n\nTSV Tempelhof Mariendorf\nRotation Prenzlauer Berg II\nTSV Spandau\nVSG Altglienicke\nSV Buch
URL:https://www.tsc-berlin.de/volleyball/event/u14m-4-spieltag/
LOCATION:Sporthalle Werneuchener Wiesen\, Margarete-Sommer-Straße 14\, Berlin\, 10407
CATEGORIES:Jugend,Spieltag,U14m
END:VEVENT
BEGIN:VEVENT
DTSTART;TZID=Europe/Berlin:20260222T130000
DTEND;TZID=Europe/Berlin:20260222T190000
DTSTAMP:20260420T104829
CREATED:20250914T162023Z
LAST-MODIFIED:20250914T165559Z
UID:2101-1771765200-1771786800@www.tsc-berlin.de
SUMMARY:Bumblebees 2. Spieltag
DESCRIPTION:Bumblebees gegen Who Knows \nLass’ Knacken! gegen Bumblebees
URL:https://www.tsc-berlin.de/volleyball/event/bumblebees-2-spieltag/
LOCATION:OSZ Handel (Halle 1)\, Wrangelstraße 98\, Berlin\, Berlin\, 10997
CATEGORIES:Bumblebees,Freizeitvolleyball,Spieltag
END:VEVENT
BEGIN:VEVENT
DTSTART;TZID=Europe/Berlin:20260228T130000
DTEND;TZID=Europe/Berlin:20260228T180000
DTSTAMP:20260420T104829
CREATED:20251203T131611Z
LAST-MODIFIED:20260224T082233Z
UID:2580-1772283600-1772301600@www.tsc-berlin.de
SUMMARY:U16m 4.Spieltag
DESCRIPTION:+++ Bitte beachtet die aktualisierte Startzeit von 13:00! +++ \nUnser U16m Team trifft in der LK2 der Jugendrunde auf folgende Mannschaften:  \n\nBerliner TSC\nSC Charlottenburg VI\nTSV Tempelhof Mariendorf (Nachrücker LK3)\nTSV Rudow (Nachrücker LK1)\nSG BVV/BTSC (Absage)\nSC Charlottenburg III (Absage)\n\nZum aktuellen Modus und Ergebnisse bitte die Seite der U16 Jugendrunde auf der VVB Webseite einsehen… 
URL:https://www.tsc-berlin.de/volleyball/event/u16m-4-spieltag/
LOCATION:Sporthalle OSZ Wirtschaft\, Prinzregentenstraße 36\, Berlin\, 10715\, Germany
CATEGORIES:Jugend,Spieltag,U16m
END:VEVENT
END:VCALENDAR