BEGIN:VCALENDAR
VERSION:2.0
PRODID:-//Volleyball - ECPv6.15.20//NONSGML v1.0//EN
CALSCALE:GREGORIAN
METHOD:PUBLISH
X-WR-CALNAME:Volleyball
X-ORIGINAL-URL:https://www.tsc-berlin.de/volleyball
X-WR-CALDESC:Veranstaltungen für Volleyball
REFRESH-INTERVAL;VALUE=DURATION:PT1H
X-Robots-Tag:noindex
X-PUBLISHED-TTL:PT1H
BEGIN:VTIMEZONE
TZID:Europe/Berlin
BEGIN:DAYLIGHT
TZOFFSETFROM:+0100
TZOFFSETTO:+0200
TZNAME:CEST
DTSTART:20240331T010000
END:DAYLIGHT
BEGIN:STANDARD
TZOFFSETFROM:+0200
TZOFFSETTO:+0100
TZNAME:CET
DTSTART:20241027T010000
END:STANDARD
BEGIN:DAYLIGHT
TZOFFSETFROM:+0100
TZOFFSETTO:+0200
TZNAME:CEST
DTSTART:20250330T010000
END:DAYLIGHT
BEGIN:STANDARD
TZOFFSETFROM:+0200
TZOFFSETTO:+0100
TZNAME:CET
DTSTART:20251026T010000
END:STANDARD
BEGIN:DAYLIGHT
TZOFFSETFROM:+0100
TZOFFSETTO:+0200
TZNAME:CEST
DTSTART:20260329T010000
END:DAYLIGHT
BEGIN:STANDARD
TZOFFSETFROM:+0200
TZOFFSETTO:+0100
TZNAME:CET
DTSTART:20261025T010000
END:STANDARD
END:VTIMEZONE
BEGIN:VEVENT
DTSTART;TZID=Europe/Berlin:20251115T100000
DTEND;TZID=Europe/Berlin:20251115T170000
DTSTAMP:20260423T103612
CREATED:20251022T172123Z
LAST-MODIFIED:20251203T145440Z
UID:2391-1763200800-1763226000@www.tsc-berlin.de
SUMMARY:U13w 3. Spieltag
DESCRIPTION:Unsere U13w trifft an ihrem 3.Spieltag  in der LK1 auf folgende Teams: \n\nBBSC\nBVV I\nBVV II\nDJK Westen\nFüchse Reinickendorf\nMarzahner VC I\nSC Eintracht I\nSC Eintracht  III\n\nAlle weiteren Informationen zum Spieltag findet ihr hier auf der Seite des VVB \n 
URL:https://www.tsc-berlin.de/volleyball/event/u13w-3-spieltag/
LOCATION:Rudolf-Virchow-Sportpark\, Blumberger Damm 300\, Berlin\, Berlin\, 12679\, Germany
CATEGORIES:Jugend,Spieltag,U13w
END:VEVENT
BEGIN:VEVENT
DTSTART;TZID=Europe/Berlin:20251123T100000
DTEND;TZID=Europe/Berlin:20251123T170000
DTSTAMP:20260423T103612
CREATED:20251022T173033Z
LAST-MODIFIED:20251115T191418Z
UID:2393-1763892000-1763917200@www.tsc-berlin.de
SUMMARY:U13m 3. Spieltag
DESCRIPTION:Die U13m Jungs starten in ihren 3. Spieltag in der LK3. Das erste Mal mit zwei Teams.  \n\nTSC Berlin I+II\nSF Kladow II\nSC Charlottenburg II+III+VI\nRotation Prenzlauer Berg II\n\nAlle weiteren Informationen zum Spieltag und zur Jugendrunde  findet ihr hier auf der Seite des VVB
URL:https://www.tsc-berlin.de/volleyball/event/u13m-3-spieltag/
LOCATION:Mary-Poppins-Grundschule\, Am Landschaftspark Gatow 39\, Berlin\, 14089\, Germany
CATEGORIES:Jugend,Spieltag,U13m
END:VEVENT
END:VCALENDAR